BEGIN:VCALENDAR
PRODID:-//Cornell Cooperative Extension of Seneca County//NONSGML Cornell Cooperative Extension of Seneca County Events//EN
X-ORIGINAL-URL:
VERSION:2.0
CALSCALE:GREGORIAN
METHOD:PUBLISH
BEGIN:VEVENT
METHOD: PUBLISH
X-MS-OLK-FORCEINSPECTOROPEN:TRUE
DTSTART:20260424T170500
DTEND:20260424T180600
SUMMARY:Arbor Day Survivor Tree Planting
DTSTAMP:20110121T170000
LAST-MODIFIED:20260420T160418
CREATED:20260420T150359
SEQUENCE:0
TRANSP:TRANSPARENT
UID:32965
LOCATION:
URL:http://senecacountycce.org/events/2026/04/24/arbor-day-survivor-tree-planting
DESCRIPTION:No registration required. Open to all ages!Join for a special event - the planting of an Oklahoma City Survivor American Elm Tree! This planting will take place on the grounds of Trinity Episcopal Church in Seneca Falls at 5:30pm.A synopsis of the story behind the Oklahoma City Survivor Elm Tree and its connection to our country’s 250th Anniversary will be presented. In addition to discussing the benefits of trees and why we plant them, there will be readings by local youth as well as recognition of participants.
CLASS:PUBLIC
CATEGORIES:
STATUS:CONFIRMED
END:VEVENT
END:VCALENDAR
n/a